Workbook

Sheet ExpImpInsectis
A1: BASIS_artgruppe | B1: BASIS_methode | C1: BASIS_datum1 | D1: datum2 | E1: zeit | F1: uhrzeit_b | G1: uhrzeit_e | H1: bearbeiter | I1: erfasser | J1: BASIS_beobachter | K1: temperatur_B | L1: temperatur_e | M1: luftdruck_b | N1: luftdruck_e | O1: luftfeuchte_b | P1: luftfeuchte_e | Q1: wind | R1: bewoelkung | S1: niederschlag | T1: licht | U1: witterung_sonst | V1: nachweisquelle | W1: beobachtung_bemerkungen | X1: aufnahmedatum | Y1: bearbeitungsdatum | Z1: BASIS_ort | AA1: BASIS_ortslage | AB1: mtb | AC1: rechtswert1 | AD1: hochwert1 | AE1: rechtswert2 | AF1: hochwert2 | AG1: utm | AH1: ostwert1 | AI1: nordwert1 | AJ1: ostwert2 | AK1: nordwert2 | AL1: fo_bemerkung | AM1: GATTUNG | AN1: ART | AQ1: BASIS_stadium | AR1: BASIS_anzahl gesamt | AS1: anzahl_maennlich | AT1: anzahl_weiblich | AU1: anzahl_geschlechtslos | AV1: haeufigkeit | AW1: art_bemerkung | AX1: bestimmer | AY1: sammler | AZ1: verbleib | BA1: zustand | BB1: verhalten
A2: Heuschrecke (Saltatoria) | AM2: =IF(AO2=1,"",INDEX([1]Tabelle1!$D$1:$D$83,AO2)) | AN2: =IF(AO2=1,"",INDEX([1]Tabelle1!$E$1:$E$83,AO2)) | AO2: 1
A3: Heuschrecke (Saltatoria) | AM3: =IF(AO3=1,"",INDEX([1]Tabelle1!$D$1:$D$83,AO3)) | AN3: =IF(AO3=1,"",INDEX([1]Tabelle1!$E$1:$E$83,AO3)) | AO3: 1
A4: Heuschrecke (Saltatoria) | AM4: =IF(AO4=1,"",INDEX([1]Tabelle1!$D$1:$D$83,AO4)) | AN4: =IF(AO4=1,"",INDEX([1]Tabelle1!$E$1:$E$83,AO4)) | AO4: 1
A5: Heuschrecke (Saltatoria) | AM5: =IF(AO5=1,"",INDEX([1]Tabelle1!$D$1:$D$83,AO5)) | AN5: =IF(AO5=1,"",INDEX([1]Tabelle1!$E$1:$E$83,AO5)) | AO5: 1
A6: Heuschrecke (Saltatoria) | AM6: =IF(AO6=1,"",INDEX([1]Tabelle1!$D$1:$D$83,AO6)) | AN6: =IF(AO6=1,"",INDEX([1]Tabelle1!$E$1:$E$83,AO6)) | AO6: 1
A7: Heuschrecke (Saltatoria) | AM7: =IF(AO7=1,"",INDEX([1]Tabelle1!$D$1:$D$83,AO7)) | AN7: =IF(AO7=1,"",INDEX([1]Tabelle1!$E$1:$E$83,AO7)) | AO7: 1
A8: Heuschrecke (Saltatoria) | AM8: =IF(AO8=1,"",INDEX([1]Tabelle1!$D$1:$D$83,AO8)) | AN8: =IF(AO8=1,"",INDEX([1]Tabelle1!$E$1:$E$83,AO8)) | AO8: 1
A9: Heuschrecke (Saltatoria) | AM9: =IF(AO9=1,"",INDEX([1]Tabelle1!$D$1:$D$83,AO9)) | AN9: =IF(AO9=1,"",INDEX([1]Tabelle1!$E$1:$E$83,AO9)) | AO9: 1
A10: Heuschrecke (Saltatoria) | AM10: =IF(AO10=1,"",INDEX([1]Tabelle1!$D$1:$D$83,AO10)) | AN10: =IF(AO10=1,"",INDEX([1]Tabelle1!$E$1:$E$83,AO10)) | AO10: 1
A11: Heuschrecke (Saltatoria) | AM11: =IF(AO11=1,"",INDEX([1]Tabelle1!$D$1:$D$83,AO11)) | AN11: =IF(AO11=1,"",INDEX([1]Tabelle1!$E$1:$E$83,AO11)) | AO11: 1
A12: Heuschrecke (Saltatoria) | AM12: =IF(AO12=1,"",INDEX([1]Tabelle1!$D$1:$D$83,AO12)) | AN12: =IF(AO12=1,"",INDEX([1]Tabelle1!$E$1:$E$83,AO12)) | AO12: 1
A13: Heuschrecke (Saltatoria) | AM13: =IF(AO13=1,"",INDEX([1]Tabelle1!$D$1:$D$83,AO13)) | AN13: =IF(AO13=1,"",INDEX([1]Tabelle1!$E$1:$E$83,AO13)) | AO13: 1
... A100: Heuschrecke (Saltatoria) | AM100: =IF(AO100=1,"",INDEX([1]Tabelle1!$D$1:$D$83,AO100)) | AN100: =IF(AO100=1,"",INDEX([1]Tabelle1!$E$1:$E$83,AO100)) | AO100: 1

Sheet ExpImpInsectIS_2
A1: BASIS_artgruppe | B1: Freigabe | C1: BASIS_methode | D1: BASIS_datum1 | E1: datum2 | F1: zeit | G1: uhrzeit_b | H1: uhrzeit_e | I1: bearbeiter | J1: erfasser | K1: BASIS_beobachter | L1: temperatur_B | M1: temperatur_e | N1: luftdruck_b | O1: luftdruck_e | P1: luftfeuchte_b | Q1: luftfeuchte_e | R1: wind | S1: bewoelkung | T1: niederschlag | U1: licht | V1: witterung_sonst | W1: nachweisquelle | X1: beobachtung_bemerkungen | Y1: aufnahmedatum | Z1: bearbeitungsdatum | AA1: BASIS_ort | AB1: BASIS_ortslage | AC1: PLZ | AD1: Landkreis | AE1: mtb | AF1: rechtswert1 | AG1: hochwert1 | AH1: rechtswert2 | AI1: hochwert2 | AJ1: utm | AK1: ostwert1 | AL1: nordwert1 | AM1: ostwert2 | AN1: nordwert2 | AO1: fo_bemerkung | AQ1: BiotopCode | AR1: GATTUNG | AS1: ART | AW1: Langfühlerschrecken | AX1: Kurzfühlerschrecken | AY1: BASIS_stadium | AZ1: BASIS_anzahl gesamt | BA1: anzahl_maennlich | BB1: anzahl_weiblich | BC1: anzahl_geschlechtslos | BD1: haeufigkeit | BE1: art_bemerkung | BF1: bestimmer | BG1: sammler | BH1: verbleib | BI1: zustand | BJ1: verhalten
A2: Heuschrecken (Saltatoria) | C2: Lichtfang | D2: 40310 | K2: Landeck, Ingmar | R2: steifer Wind | S2: bedeckt | T2: Hagel | U2: Tag | V2: Wetter sonst o.A. | W2: Gutachten xyz | AA2: Finsterwalde | AB2: Ackerbrache | AC2: 03238' | AD2: Elbe-Elster | AE2: 4448.2 | AF2: 1234567 | AG2: 1234567 | AK2: 1234567 | AL2: 1234567 | AO2: =IF(AP2=0,"",INDEX(Biotope!$B$7:$B$90,AP2)) -> Röhrichtgesellschaften an Fließgewässern | AP2: =LOOKUP(AQ2,{0;"AE";"AF";"AG";"AH";"AL";"AR";"AS";"AT";"AW";"AX";"BE";"BF";"BG";"BH";"BK";"BL";"BM";"BO";"BR";"BS";"D";"FP";"FR";"FV";"GA";"GF";"GI";"GL";"GM";"GS";"GT";"GZ";"HG";"HZ";"LA";"LB";"LI";"LJ";"MA";"ME";"MM";"OA";"OG";"OH";"OK";"OL";"OS";"OT";"OV";"PC";"PD";"PE";"PF";"PG";"PG";"PK";"PS";"PW";"PZ";"RK";"RR";"RS";"RX";"SA";"SG";"SK";"SL";"SP";"SR";"ST";"SV";"SW";"SZ";"WG";"WI";"WK";"WL";"WLM";"WM";"WN";"WP";"WR";"WV";"WZ"},{0;67;70;68;69;74;73;72;71;76;75;35;32;39;33;36;31;40;38;34;37;66;2;1;3;24;21;26;28;22;25;23;27;30;29;52;54;53;55;18;20;19;82;78;84;83;79;77;80;81;61;62;60;56;57;64;58;59;63;65;17;14;15;16;8;4;5;11;6;9;7;13;10;12;49;50;43;48;42;41;47;51;45;46;44}) -> 1 | AQ2: FR | AR2: =IF(AT2=0,"",INDEX(Arten!$D$1:$D$84,AT2)) -> Chorthippus | AS2: =IF(AT2=0,"",INDEX(Arten!$E$1:$E$84,AT2)) -> apricarius | AT2: =SUM(AU2:AV2) -> 11 | AU2: =LOOKUP(AW2,{0;"A.dom";"B.con";"B.ser";"C.dor";"C.fus";"D.ver";"E.eph";"G.gla";"G.gry";"Gr.cam";"I.kra";"L.alb";"L.pun";"M.mer";"M.tha";"Me.bic";"Me.bra";"Me.roe";"Mo.fro";"My.ace";"N.syl";"O.pel";"P.fal";"Ph.apt";"Ph.gri";"Pl.alb";"Pl.mon";"Pl.tes";"Pl.vey";"Po.den";"Pt.hey";"R.nit";"T.asy";"T.can";"T.cau";"T.vir"},{0;2;6;7;21;22;23;25;27;30;31;32;33;34;36;37;39;40;41;43;44;46;47;53;54;55;56;57;58;59;61;63;64;73;82;83;84}) -> 0 | AV2: =LOOKUP(AX2,{0;"AFus";"AMic";"ATha";"BTub";"CAlb";"CApr";"CBig";"CBru";"CDis";"CDor";"CIta";"CMol";"CMon";"CPar";"CPul";"CVag";"EBra";"ETer";"GRuf";"GSib";"LMig";"MAlp";"MMac";"MPar";"OCae";"OGer";"OHae";"ORuf";"OVir";"PPed";"PStr";"SCae";"SCra";"SGro";"SLin";"SNig";"SRub";"SSca";"SSti";"T(b)bip";"T(b)kr";"TBip";"TCep";"TSub";"TTen";"TTue";"TUnd"},{0;4;5;3;8;10;11;12;13;20;14;9;15;16;17;18;19;26;24;28;29;35;42;45;38;48;49;50;51;52;60;62;65;67;72;68;69;70;66;71;74;75;76;77;78;79;80;81}) -> 11 | AW2: 0 | AX2: CApr | AY2: Ei | AZ2: 25 | BA2: 1 | BB2: 24
A3: Heuschrecken (Saltatoria) | C3: Lichtfang | D3: 37033 | K3: Lehmann, Arne | R3: leichte Brise | S3: wolkenlos/klar,wolkig,wolkig/bewölkt | T3: Niederschl. o.A. | U3: Lichtverh. o.A. | V3: Bodennebel | W3: Lehmann et al. 2012 | AA3: Stahnsdorf | AB3: Garten | AD3: Berlin | AE3: 4258 | AO3: =IF(AP3=0,"",INDEX(Biotope!$B$7:$B$90,AP3)) -> Kiefernwälder trockenwarmer Standorte | AP3: =LOOKUP(AQ3,{0;"AE";"AF";"AG";"AH";"AL";"AR";"AS";"AT";"AW";"AX";"BE";"BF";"BG";"BH";"BK";"BL";"BM";"BO";"BR";"BS";"D";"FP";"FR";"FV";"GA";"GF";"GI";"GL";"GM";"GS";"GT";"GZ";"HG";"HZ";"LA";"LB";"LI";"LJ";"MA";"ME";"MM";"OA";"OG";"OH";"OK";"OL";"OS";"OT";"OV";"PC";"PD";"PE";"PF";"PG";"PG";"PK";"PS";"PW";"PZ";"RK";"RR";"RS";"RX";"SA";"SG";"SK";"SL";"SP";"SR";"ST";"SV";"SW";"SZ";"WG";"WI";"WK";"WL";"WLM";"WM";"WN";"WP";"WR";"WV";"WZ"},{0;67;70;68;69;74;73;72;71;76;75;35;32;39;33;36;31;40;38;34;37;66;2;1;3;24;21;26;28;22;25;23;27;30;29;52;54;53;55;18;20;19;82;78;84;83;79;77;80;81;61;62;60;56;57;64;58;59;63;65;17;14;15;16;8;4;5;11;6;9;7;13;10;12;49;50;43;48;42;41;47;51;45;46;44}) -> 43 | AQ3: WK | AR3: =IF(AT3=0,"",INDEX(Arten!$D$1:$D$84,AT3)) -> Gampsocleis | AS3: =IF(AT3=0,"",INDEX(Arten!$E$1:$E$84,AT3)) -> glabra | AT3: =SUM(AU3:AV3) -> 27 | AU3: =LOOKUP(AW3,{0;"A.dom";"B.con";"B.ser";"C.dor";"C.fus";"D.ver";"E.eph";"G.gla";"G.gry";"Gr.cam";"I.kra";"L.alb";"L.pun";"M.mer";"M.tha";"Me.bic";"Me.bra";"Me.roe";"Mo.fro";"My.ace";"N.syl";"O.pel";"P.fal";"Ph.apt";"Ph.gri";"Pl.alb";"Pl.mon";"Pl.tes";"Pl.vey";"Po.den";"Pt.hey";"R.nit";"T.asy";"T.can";"T.cau";"T.vir"},{0;2;6;7;21;22;23;25;27;30;31;32;33;34;36;37;39;40;41;43;44;46;47;53;54;55;56;57;58;59;61;63;64;73;82;83;84}) -> 27 | AV3: =LOOKUP(AX3,{0;"AFus";"AMic";"ATha";"BTub";"CAlb";"CApr";"CBig";"CBru";"CDis";"CDor";"CIta";"CMol";"CMon";"CPar";"CPul";"CVag";"EBra";"ETer";"GRuf";"GSib";"LMig";"MAlp";"MMac";"MPar";"OCae";"OGer";"OHae";"ORuf";"OVir";"PPed";"PStr";"SCae";"SCra";"SGro";"SLin";"SNig";"SRub";"SSca";"SSti";"T(b)bip";"T(b)kr";"TBip";"TCep";"TSub";"TTen";"TTue";"TUnd"},{0;4;5;3;8;10;11;12;13;20;14;9;15;16;17;18;19;26;24;28;29;35;42;45;38;48;49;50;51;52;60;62;65;67;72;68;69;70;66;71;74;75;76;77;78;79;80;81}) -> 0 | AW3: G.gla | AX3: 0 | AY3: Nymphe III | AZ3: 3 | BA3: 3 | BB3: 1
A4: Heuschrecken (Saltatoria) | AO4: =IF(AP4=0,"",INDEX(Biotope!$B$7:$B$90,AP4)) | AP4: =LOOKUP(AQ4,{0;"AE";"AF";"AG";"AH";"AL";"AR";"AS";"AT";"AW";"AX";"BE";"BF";"BG";"BH";"BK";"BL";"BM";"BO";"BR";"BS";"D";"FP";"FR";"FV";"GA";"GF";"GI";"GL";"GM";"GS";"GT";"GZ";"HG";"HZ";"LA";"LB";"LI";"LJ";"MA";"ME";"MM";"OA";"OG";"OH";"OK";"OL";"OS";"OT";"OV";"PC";"PD";"PE";"PF";"PG";"PG";"PK";"PS";"PW";"PZ";"RK";"RR";"RS";"RX";"SA";"SG";"SK";"SL";"SP";"SR";"ST";"SV";"SW";"SZ";"WG";"WI";"WK";"WL";"WLM";"WM";"WN";"WP";"WR";"WV";"WZ"},{0;67;70;68;69;74;73;72;71;76;75;35;32;39;33;36;31;40;38;34;37;66;2;1;3;24;21;26;28;22;25;23;27;30;29;52;54;53;55;18;20;19;82;78;84;83;79;77;80;81;61;62;60;56;57;64;58;59;63;65;17;14;15;16;8;4;5;11;6;9;7;13;10;12;49;50;43;48;42;41;47;51;45;46;44}) -> 0 | AR4: =IF(AT4=0,"",INDEX(Arten!$D$1:$D$84,AT4)) | AS4: =IF(AT4=0,"",INDEX(Arten!$E$1:$E$84,AT4)) | AT4: =SUM(AU4:AV4) -> 0 | AU4: =LOOKUP(AW4,{0;"A.dom";"B.con";"B.ser";"C.dor";"C.fus";"D.ver";"E.eph";"G.gla";"G.gry";"Gr.cam";"I.kra";"L.alb";"L.pun";"M.mer";"M.tha";"Me.bic";"Me.bra";"Me.roe";"Mo.fro";"My.ace";"N.syl";"O.pel";"P.fal";"Ph.apt";"Ph.gri";"Pl.alb";"Pl.mon";"Pl.tes";"Pl.vey";"Po.den";"Pt.hey";"R.nit";"T.asy";"T.can";"T.cau";"T.vir"},{0;2;6;7;21;22;23;25;27;30;31;32;33;34;36;37;39;40;41;43;44;46;47;53;54;55;56;57;58;59;61;63;64;73;82;83;84}) -> 0 | AV4: =LOOKUP(AX4,{0;"AFus";"AMic";"ATha";"BTub";"CAlb";"CApr";"CBig";"CBru";"CDis";"CDor";"CIta";"CMol";"CMon";"CPar";"CPul";"CVag";"EBra";"ETer";"GRuf";"GSib";"LMig";"MAlp";"MMac";"MPar";"OCae";"OGer";"OHae";"ORuf";"OVir";"PPed";"PStr";"SCae";"SCra";"SGro";"SLin";"SNig";"SRub";"SSca";"SSti";"T(b)bip";"T(b)kr";"TBip";"TCep";"TSub";"TTen";"TTue";"TUnd"},{0;4;5;3;8;10;11;12;13;20;14;9;15;16;17;18;19;26;24;28;29;35;42;45;38;48;49;50;51;52;60;62;65;67;72;68;69;70;66;71;74;75;76;77;78;79;80;81}) -> 0 | AW4: 0 | AX4: 0
A5: Heuschrecken (Saltatoria) | AO5: =IF(AP5=0,"",INDEX(Biotope!$B$7:$B$90,AP5)) | AP5: =LOOKUP(AQ5,{0;"AE";"AF";"AG";"AH";"AL";"AR";"AS";"AT";"AW";"AX";"BE";"BF";"BG";"BH";"BK";"BL";"BM";"BO";"BR";"BS";"D";"FP";"FR";"FV";"GA";"GF";"GI";"GL";"GM";"GS";"GT";"GZ";"HG";"HZ";"LA";"LB";"LI";"LJ";"MA";"ME";"MM";"OA";"OG";"OH";"OK";"OL";"OS";"OT";"OV";"PC";"PD";"PE";"PF";"PG";"PG";"PK";"PS";"PW";"PZ";"RK";"RR";"RS";"RX";"SA";"SG";"SK";"SL";"SP";"SR";"ST";"SV";"SW";"SZ";"WG";"WI";"WK";"WL";"WLM";"WM";"WN";"WP";"WR";"WV";"WZ"},{0;67;70;68;69;74;73;72;71;76;75;35;32;39;33;36;31;40;38;34;37;66;2;1;3;24;21;26;28;22;25;23;27;30;29;52;54;53;55;18;20;19;82;78;84;83;79;77;80;81;61;62;60;56;57;64;58;59;63;65;17;14;15;16;8;4;5;11;6;9;7;13;10;12;49;50;43;48;42;41;47;51;45;46;44}) -> 0 | AR5: =IF(AT5=0,"",INDEX(Arten!$D$1:$D$84,AT5)) | AS5: =IF(AT5=0,"",INDEX(Arten!$E$1:$E$84,AT5)) | AT5: =SUM(AU5:AV5) -> 0 | AU5: =LOOKUP(AW5,{0;"A.dom";"B.con";"B.ser";"C.dor";"C.fus";"D.ver";"E.eph";"G.gla";"G.gry";"Gr.cam";"I.kra";"L.alb";"L.pun";"M.mer";"M.tha";"Me.bic";"Me.bra";"Me.roe";"Mo.fro";"My.ace";"N.syl";"O.pel";"P.fal";"Ph.apt";"Ph.gri";"Pl.alb";"Pl.mon";"Pl.tes";"Pl.vey";"Po.den";"Pt.hey";"R.nit";"T.asy";"T.can";"T.cau";"T.vir"},{0;2;6;7;21;22;23;25;27;30;31;32;33;34;36;37;39;40;41;43;44;46;47;53;54;55;56;57;58;59;61;63;64;73;82;83;84}) -> 0 | AV5: =LOOKUP(AX5,{0;"AFus";"AMic";"ATha";"BTub";"CAlb";"CApr";"CBig";"CBru";"CDis";"CDor";"CIta";"CMol";"CMon";"CPar";"CPul";"CVag";"EBra";"ETer";"GRuf";"GSib";"LMig";"MAlp";"MMac";"MPar";"OCae";"OGer";"OHae";"ORuf";"OVir";"PPed";"PStr";"SCae";"SCra";"SGro";"SLin";"SNig";"SRub";"SSca";"SSti";"T(b)bip";"T(b)kr";"TBip";"TCep";"TSub";"TTen";"TTue";"TUnd"},{0;4;5;3;8;10;11;12;13;20;14;9;15;16;17;18;19;26;24;28;29;35;42;45;38;48;49;50;51;52;60;62;65;67;72;68;69;70;66;71;74;75;76;77;78;79;80;81}) -> 0 | AW5: 0 | AX5: 0
A6: Heuschrecken (Saltatoria) | AO6: =IF(AP6=0,"",INDEX(Biotope!$B$7:$B$90,AP6)) | AP6: =LOOKUP(AQ6,{0;"AE";"AF";"AG";"AH";"AL";"AR";"AS";"AT";"AW";"AX";"BE";"BF";"BG";"BH";"BK";"BL";"BM";"BO";"BR";"BS";"D";"FP";"FR";"FV";"GA";"GF";"GI";"GL";"GM";"GS";"GT";"GZ";"HG";"HZ";"LA";"LB";"LI";"LJ";"MA";"ME";"MM";"OA";"OG";"OH";"OK";"OL";"OS";"OT";"OV";"PC";"PD";"PE";"PF";"PG";"PG";"PK";"PS";"PW";"PZ";"RK";"RR";"RS";"RX";"SA";"SG";"SK";"SL";"SP";"SR";"ST";"SV";"SW";"SZ";"WG";"WI";"WK";"WL";"WLM";"WM";"WN";"WP";"WR";"WV";"WZ"},{0;67;70;68;69;74;73;72;71;76;75;35;32;39;33;36;31;40;38;34;37;66;2;1;3;24;21;26;28;22;25;23;27;30;29;52;54;53;55;18;20;19;82;78;84;83;79;77;80;81;61;62;60;56;57;64;58;59;63;65;17;14;15;16;8;4;5;11;6;9;7;13;10;12;49;50;43;48;42;41;47;51;45;46;44}) -> 0 | AR6: =IF(AT6=0,"",INDEX(Arten!$D$1:$D$84,AT6)) | AS6: =IF(AT6=0,"",INDEX(Arten!$E$1:$E$84,AT6)) | AT6: =SUM(AU6:AV6) -> 0 | AU6: =LOOKUP(AW6,{0;"A.dom";"B.con";"B.ser";"C.dor";"C.fus";"D.ver";"E.eph";"G.gla";"G.gry";"Gr.cam";"I.kra";"L.alb";"L.pun";"M.mer";"M.tha";"Me.bic";"Me.bra";"Me.roe";"Mo.fro";"My.ace";"N.syl";"O.pel";"P.fal";"Ph.apt";"Ph.gri";"Pl.alb";"Pl.mon";"Pl.tes";"Pl.vey";"Po.den";"Pt.hey";"R.nit";"T.asy";"T.can";"T.cau";"T.vir"},{0;2;6;7;21;22;23;25;27;30;31;32;33;34;36;37;39;40;41;43;44;46;47;53;54;55;56;57;58;59;61;63;64;73;82;83;84}) -> 0 | AV6: =LOOKUP(AX6,{0;"AFus";"AMic";"ATha";"BTub";"CAlb";"CApr";"CBig";"CBru";"CDis";"CDor";"CIta";"CMol";"CMon";"CPar";"CPul";"CVag";"EBra";"ETer";"GRuf";"GSib";"LMig";"MAlp";"MMac";"MPar";"OCae";"OGer";"OHae";"ORuf";"OVir";"PPed";"PStr";"SCae";"SCra";"SGro";"SLin";"SNig";"SRub";"SSca";"SSti";"T(b)bip";"T(b)kr";"TBip";"TCep";"TSub";"TTen";"TTue";"TUnd"},{0;4;5;3;8;10;11;12;13;20;14;9;15;16;17;18;19;26;24;28;29;35;42;45;38;48;49;50;51;52;60;62;65;67;72;68;69;70;66;71;74;75;76;77;78;79;80;81}) -> 0 | AW6: 0 | AX6: 0
A7: Heuschrecken (Saltatoria) | AO7: =IF(AP7=0,"",INDEX(Biotope!$B$7:$B$90,AP7)) | AP7: =LOOKUP(AQ7,{0;"AE";"AF";"AG";"AH";"AL";"AR";"AS";"AT";"AW";"AX";"BE";"BF";"BG";"BH";"BK";"BL";"BM";"BO";"BR";"BS";"D";"FP";"FR";"FV";"GA";"GF";"GI";"GL";"GM";"GS";"GT";"GZ";"HG";"HZ";"LA";"LB";"LI";"LJ";"MA";"ME";"MM";"OA";"OG";"OH";"OK";"OL";"OS";"OT";"OV";"PC";"PD";"PE";"PF";"PG";"PG";"PK";"PS";"PW";"PZ";"RK";"RR";"RS";"RX";"SA";"SG";"SK";"SL";"SP";"SR";"ST";"SV";"SW";"SZ";"WG";"WI";"WK";"WL";"WLM";"WM";"WN";"WP";"WR";"WV";"WZ"},{0;67;70;68;69;74;73;72;71;76;75;35;32;39;33;36;31;40;38;34;37;66;2;1;3;24;21;26;28;22;25;23;27;30;29;52;54;53;55;18;20;19;82;78;84;83;79;77;80;81;61;62;60;56;57;64;58;59;63;65;17;14;15;16;8;4;5;11;6;9;7;13;10;12;49;50;43;48;42;41;47;51;45;46;44}) -> 0 | AR7: =IF(AT7=0,"",INDEX(Arten!$D$1:$D$84,AT7)) | AS7: =IF(AT7=0,"",INDEX(Arten!$E$1:$E$84,AT7)) | AT7: =SUM(AU7:AV7) -> 0 | AU7: =LOOKUP(AW7,{0;"A.dom";"B.con";"B.ser";"C.dor";"C.fus";"D.ver";"E.eph";"G.gla";"G.gry";"Gr.cam";"I.kra";"L.alb";"L.pun";"M.mer";"M.tha";"Me.bic";"Me.bra";"Me.roe";"Mo.fro";"My.ace";"N.syl";"O.pel";"P.fal";"Ph.apt";"Ph.gri";"Pl.alb";"Pl.mon";"Pl.tes";"Pl.vey";"Po.den";"Pt.hey";"R.nit";"T.asy";"T.can";"T.cau";"T.vir"},{0;2;6;7;21;22;23;25;27;30;31;32;33;34;36;37;39;40;41;43;44;46;47;53;54;55;56;57;58;59;61;63;64;73;82;83;84}) -> 0 | AV7: =LOOKUP(AX7,{0;"AFus";"AMic";"ATha";"BTub";"CAlb";"CApr";"CBig";"CBru";"CDis";"CDor";"CIta";"CMol";"CMon";"CPar";"CPul";"CVag";"EBra";"ETer";"GRuf";"GSib";"LMig";"MAlp";"MMac";"MPar";"OCae";"OGer";"OHae";"ORuf";"OVir";"PPed";"PStr";"SCae";"SCra";"SGro";"SLin";"SNig";"SRub";"SSca";"SSti";"T(b)bip";"T(b)kr";"TBip";"TCep";"TSub";"TTen";"TTue";"TUnd"},{0;4;5;3;8;10;11;12;13;20;14;9;15;16;17;18;19;26;24;28;29;35;42;45;38;48;49;50;51;52;60;62;65;67;72;68;69;70;66;71;74;75;76;77;78;79;80;81}) -> 0 | AW7: 0 | AX7: 0
A8: Heuschrecken (Saltatoria) | AO8: =IF(AP8=0,"",INDEX(Biotope!$B$7:$B$90,AP8)) | AP8: =LOOKUP(AQ8,{0;"AE";"AF";"AG";"AH";"AL";"AR";"AS";"AT";"AW";"AX";"BE";"BF";"BG";"BH";"BK";"BL";"BM";"BO";"BR";"BS";"D";"FP";"FR";"FV";"GA";"GF";"GI";"GL";"GM";"GS";"GT";"GZ";"HG";"HZ";"LA";"LB";"LI";"LJ";"MA";"ME";"MM";"OA";"OG";"OH";"OK";"OL";"OS";"OT";"OV";"PC";"PD";"PE";"PF";"PG";"PG";"PK";"PS";"PW";"PZ";"RK";"RR";"RS";"RX";"SA";"SG";"SK";"SL";"SP";"SR";"ST";"SV";"SW";"SZ";"WG";"WI";"WK";"WL";"WLM";"WM";"WN";"WP";"WR";"WV";"WZ"},{0;67;70;68;69;74;73;72;71;76;75;35;32;39;33;36;31;40;38;34;37;66;2;1;3;24;21;26;28;22;25;23;27;30;29;52;54;53;55;18;20;19;82;78;84;83;79;77;80;81;61;62;60;56;57;64;58;59;63;65;17;14;15;16;8;4;5;11;6;9;7;13;10;12;49;50;43;48;42;41;47;51;45;46;44}) -> 0 | AR8: =IF(AT8=0,"",INDEX(Arten!$D$1:$D$84,AT8)) | AS8: =IF(AT8=0,"",INDEX(Arten!$E$1:$E$84,AT8)) | AT8: =SUM(AU8:AV8) -> 0 | AU8: =LOOKUP(AW8,{0;"A.dom";"B.con";"B.ser";"C.dor";"C.fus";"D.ver";"E.eph";"G.gla";"G.gry";"Gr.cam";"I.kra";"L.alb";"L.pun";"M.mer";"M.tha";"Me.bic";"Me.bra";"Me.roe";"Mo.fro";"My.ace";"N.syl";"O.pel";"P.fal";"Ph.apt";"Ph.gri";"Pl.alb";"Pl.mon";"Pl.tes";"Pl.vey";"Po.den";"Pt.hey";"R.nit";"T.asy";"T.can";"T.cau";"T.vir"},{0;2;6;7;21;22;23;25;27;30;31;32;33;34;36;37;39;40;41;43;44;46;47;53;54;55;56;57;58;59;61;63;64;73;82;83;84}) -> 0 | AV8: =LOOKUP(AX8,{0;"AFus";"AMic";"ATha";"BTub";"CAlb";"CApr";"CBig";"CBru";"CDis";"CDor";"CIta";"CMol";"CMon";"CPar";"CPul";"CVag";"EBra";"ETer";"GRuf";"GSib";"LMig";"MAlp";"MMac";"MPar";"OCae";"OGer";"OHae";"ORuf";"OVir";"PPed";"PStr";"SCae";"SCra";"SGro";"SLin";"SNig";"SRub";"SSca";"SSti";"T(b)bip";"T(b)kr";"TBip";"TCep";"TSub";"TTen";"TTue";"TUnd"},{0;4;5;3;8;10;11;12;13;20;14;9;15;16;17;18;19;26;24;28;29;35;42;45;38;48;49;50;51;52;60;62;65;67;72;68;69;70;66;71;74;75;76;77;78;79;80;81}) -> 0 | AW8: 0 | AX8: 0
A9: Heuschrecken (Saltatoria) | AO9: =IF(AP9=0,"",INDEX(Biotope!$B$7:$B$90,AP9)) | AP9: =LOOKUP(AQ9,{0;"AE";"AF";"AG";"AH";"AL";"AR";"AS";"AT";"AW";"AX";"BE";"BF";"BG";"BH";"BK";"BL";"BM";"BO";"BR";"BS";"D";"FP";"FR";"FV";"GA";"GF";"GI";"GL";"GM";"GS";"GT";"GZ";"HG";"HZ";"LA";"LB";"LI";"LJ";"MA";"ME";"MM";"OA";"OG";"OH";"OK";"OL";"OS";"OT";"OV";"PC";"PD";"PE";"PF";"PG";"PG";"PK";"PS";"PW";"PZ";"RK";"RR";"RS";"RX";"SA";"SG";"SK";"SL";"SP";"SR";"ST";"SV";"SW";"SZ";"WG";"WI";"WK";"WL";"WLM";"WM";"WN";"WP";"WR";"WV";"WZ"},{0;67;70;68;69;74;73;72;71;76;75;35;32;39;33;36;31;40;38;34;37;66;2;1;3;24;21;26;28;22;25;23;27;30;29;52;54;53;55;18;20;19;82;78;84;83;79;77;80;81;61;62;60;56;57;64;58;59;63;65;17;14;15;16;8;4;5;11;6;9;7;13;10;12;49;50;43;48;42;41;47;51;45;46;44}) -> 0 | AR9: =IF(AT9=0,"",INDEX(Arten!$D$1:$D$84,AT9)) | AS9: =IF(AT9=0,"",INDEX(Arten!$E$1:$E$84,AT9)) | AT9: =SUM(AU9:AV9) -> 0 | AU9: =LOOKUP(AW9,{0;"A.dom";"B.con";"B.ser";"C.dor";"C.fus";"D.ver";"E.eph";"G.gla";"G.gry";"Gr.cam";"I.kra";"L.alb";"L.pun";"M.mer";"M.tha";"Me.bic";"Me.bra";"Me.roe";"Mo.fro";"My.ace";"N.syl";"O.pel";"P.fal";"Ph.apt";"Ph.gri";"Pl.alb";"Pl.mon";"Pl.tes";"Pl.vey";"Po.den";"Pt.hey";"R.nit";"T.asy";"T.can";"T.cau";"T.vir"},{0;2;6;7;21;22;23;25;27;30;31;32;33;34;36;37;39;40;41;43;44;46;47;53;54;55;56;57;58;59;61;63;64;73;82;83;84}) -> 0 | AV9: =LOOKUP(AX9,{0;"AFus";"AMic";"ATha";"BTub";"CAlb";"CApr";"CBig";"CBru";"CDis";"CDor";"CIta";"CMol";"CMon";"CPar";"CPul";"CVag";"EBra";"ETer";"GRuf";"GSib";"LMig";"MAlp";"MMac";"MPar";"OCae";"OGer";"OHae";"ORuf";"OVir";"PPed";"PStr";"SCae";"SCra";"SGro";"SLin";"SNig";"SRub";"SSca";"SSti";"T(b)bip";"T(b)kr";"TBip";"TCep";"TSub";"TTen";"TTue";"TUnd"},{0;4;5;3;8;10;11;12;13;20;14;9;15;16;17;18;19;26;24;28;29;35;42;45;38;48;49;50;51;52;60;62;65;67;72;68;69;70;66;71;74;75;76;77;78;79;80;81}) -> 0 | AW9: 0 | AX9: 0
A10: Heuschrecken (Saltatoria) | AO10: =IF(AP10=0,"",INDEX(Biotope!$B$7:$B$90,AP10)) | AP10: =LOOKUP(AQ10,{0;"AE";"AF";"AG";"AH";"AL";"AR";"AS";"AT";"AW";"AX";"BE";"BF";"BG";"BH";"BK";"BL";"BM";"BO";"BR";"BS";"D";"FP";"FR";"FV";"GA";"GF";"GI";"GL";"GM";"GS";"GT";"GZ";"HG";"HZ";"LA";"LB";"LI";"LJ";"MA";"ME";"MM";"OA";"OG";"OH";"OK";"OL";"OS";"OT";"OV";"PC";"PD";"PE";"PF";"PG";"PG";"PK";"PS";"PW";"PZ";"RK";"RR";"RS";"RX";"SA";"SG";"SK";"SL";"SP";"SR";"ST";"SV";"SW";"SZ";"WG";"WI";"WK";"WL";"WLM";"WM";"WN";"WP";"WR";"WV";"WZ"},{0;67;70;68;69;74;73;72;71;76;75;35;32;39;33;36;31;40;38;34;37;66;2;1;3;24;21;26;28;22;25;23;27;30;29;52;54;53;55;18;20;19;82;78;84;83;79;77;80;81;61;62;60;56;57;64;58;59;63;65;17;14;15;16;8;4;5;11;6;9;7;13;10;12;49;50;43;48;42;41;47;51;45;46;44}) -> 0 | AR10: =IF(AT10=0,"",INDEX(Arten!$D$1:$D$84,AT10)) | AS10: =IF(AT10=0,"",INDEX(Arten!$E$1:$E$84,AT10)) | AT10: =SUM(AU10:AV10) -> 0 | AU10: =LOOKUP(AW10,{0;"A.dom";"B.con";"B.ser";"C.dor";"C.fus";"D.ver";"E.eph";"G.gla";"G.gry";"Gr.cam";"I.kra";"L.alb";"L.pun";"M.mer";"M.tha";"Me.bic";"Me.bra";"Me.roe";"Mo.fro";"My.ace";"N.syl";"O.pel";"P.fal";"Ph.apt";"Ph.gri";"Pl.alb";"Pl.mon";"Pl.tes";"Pl.vey";"Po.den";"Pt.hey";"R.nit";"T.asy";"T.can";"T.cau";"T.vir"},{0;2;6;7;21;22;23;25;27;30;31;32;33;34;36;37;39;40;41;43;44;46;47;53;54;55;56;57;58;59;61;63;64;73;82;83;84}) -> 0 | AV10: =LOOKUP(AX10,{0;"AFus";"AMic";"ATha";"BTub";"CAlb";"CApr";"CBig";"CBru";"CDis";"CDor";"CIta";"CMol";"CMon";"CPar";"CPul";"CVag";"EBra";"ETer";"GRuf";"GSib";"LMig";"MAlp";"MMac";"MPar";"OCae";"OGer";"OHae";"ORuf";"OVir";"PPed";"PStr";"SCae";"SCra";"SGro";"SLin";"SNig";"SRub";"SSca";"SSti";"T(b)bip";"T(b)kr";"TBip";"TCep";"TSub";"TTen";"TTue";"TUnd"},{0;4;5;3;8;10;11;12;13;20;14;9;15;16;17;18;19;26;24;28;29;35;42;45;38;48;49;50;51;52;60;62;65;67;72;68;69;70;66;71;74;75;76;77;78;79;80;81}) -> 0 | AW10: 0 | AX10: 0
A11: Heuschrecken (Saltatoria) | AO11: =IF(AP11=0,"",INDEX(Biotope!$B$7:$B$90,AP11)) | AP11: =LOOKUP(AQ11,{0;"AE";"AF";"AG";"AH";"AL";"AR";"AS";"AT";"AW";"AX";"BE";"BF";"BG";"BH";"BK";"BL";"BM";"BO";"BR";"BS";"D";"FP";"FR";"FV";"GA";"GF";"GI";"GL";"GM";"GS";"GT";"GZ";"HG";"HZ";"LA";"LB";"LI";"LJ";"MA";"ME";"MM";"OA";"OG";"OH";"OK";"OL";"OS";"OT";"OV";"PC";"PD";"PE";"PF";"PG";"PG";"PK";"PS";"PW";"PZ";"RK";"RR";"RS";"RX";"SA";"SG";"SK";"SL";"SP";"SR";"ST";"SV";"SW";"SZ";"WG";"WI";"WK";"WL";"WLM";"WM";"WN";"WP";"WR";"WV";"WZ"},{0;67;70;68;69;74;73;72;71;76;75;35;32;39;33;36;31;40;38;34;37;66;2;1;3;24;21;26;28;22;25;23;27;30;29;52;54;53;55;18;20;19;82;78;84;83;79;77;80;81;61;62;60;56;57;64;58;59;63;65;17;14;15;16;8;4;5;11;6;9;7;13;10;12;49;50;43;48;42;41;47;51;45;46;44}) -> 0 | AR11: =IF(AT11=0,"",INDEX(Arten!$D$1:$D$84,AT11)) | AS11: =IF(AT11=0,"",INDEX(Arten!$E$1:$E$84,AT11)) | AT11: =SUM(AU11:AV11) -> 0 | AU11: =LOOKUP(AW11,{0;"A.dom";"B.con";"B.ser";"C.dor";"C.fus";"D.ver";"E.eph";"G.gla";"G.gry";"Gr.cam";"I.kra";"L.alb";"L.pun";"M.mer";"M.tha";"Me.bic";"Me.bra";"Me.roe";"Mo.fro";"My.ace";"N.syl";"O.pel";"P.fal";"Ph.apt";"Ph.gri";"Pl.alb";"Pl.mon";"Pl.tes";"Pl.vey";"Po.den";"Pt.hey";"R.nit";"T.asy";"T.can";"T.cau";"T.vir"},{0;2;6;7;21;22;23;25;27;30;31;32;33;34;36;37;39;40;41;43;44;46;47;53;54;55;56;57;58;59;61;63;64;73;82;83;84}) -> 0 | AV11: =LOOKUP(AX11,{0;"AFus";"AMic";"ATha";"BTub";"CAlb";"CApr";"CBig";"CBru";"CDis";"CDor";"CIta";"CMol";"CMon";"CPar";"CPul";"CVag";"EBra";"ETer";"GRuf";"GSib";"LMig";"MAlp";"MMac";"MPar";"OCae";"OGer";"OHae";"ORuf";"OVir";"PPed";"PStr";"SCae";"SCra";"SGro";"SLin";"SNig";"SRub";"SSca";"SSti";"T(b)bip";"T(b)kr";"TBip";"TCep";"TSub";"TTen";"TTue";"TUnd"},{0;4;5;3;8;10;11;12;13;20;14;9;15;16;17;18;19;26;24;28;29;35;42;45;38;48;49;50;51;52;60;62;65;67;72;68;69;70;66;71;74;75;76;77;78;79;80;81}) -> 0 | AW11: 0 | AX11: 0
A12: Heuschrecken (Saltatoria) | AO12: =IF(AP12=0,"",INDEX(Biotope!$B$7:$B$90,AP12)) | AP12: =LOOKUP(AQ12,{0;"AE";"AF";"AG";"AH";"AL";"AR";"AS";"AT";"AW";"AX";"BE";"BF";"BG";"BH";"BK";"BL";"BM";"BO";"BR";"BS";"D";"FP";"FR";"FV";"GA";"GF";"GI";"GL";"GM";"GS";"GT";"GZ";"HG";"HZ";"LA";"LB";"LI";"LJ";"MA";"ME";"MM";"OA";"OG";"OH";"OK";"OL";"OS";"OT";"OV";"PC";"PD";"PE";"PF";"PG";"PG";"PK";"PS";"PW";"PZ";"RK";"RR";"RS";"RX";"SA";"SG";"SK";"SL";"SP";"SR";"ST";"SV";"SW";"SZ";"WG";"WI";"WK";"WL";"WLM";"WM";"WN";"WP";"WR";"WV";"WZ"},{0;67;70;68;69;74;73;72;71;76;75;35;32;39;33;36;31;40;38;34;37;66;2;1;3;24;21;26;28;22;25;23;27;30;29;52;54;53;55;18;20;19;82;78;84;83;79;77;80;81;61;62;60;56;57;64;58;59;63;65;17;14;15;16;8;4;5;11;6;9;7;13;10;12;49;50;43;48;42;41;47;51;45;46;44}) -> 0 | AR12: =IF(AT12=0,"",INDEX(Arten!$D$1:$D$84,AT12)) | AS12: =IF(AT12=0,"",INDEX(Arten!$E$1:$E$84,AT12)) | AT12: =SUM(AU12:AV12) -> 0 | AU12: =LOOKUP(AW12,{0;"A.dom";"B.con";"B.ser";"C.dor";"C.fus";"D.ver";"E.eph";"G.gla";"G.gry";"Gr.cam";"I.kra";"L.alb";"L.pun";"M.mer";"M.tha";"Me.bic";"Me.bra";"Me.roe";"Mo.fro";"My.ace";"N.syl";"O.pel";"P.fal";"Ph.apt";"Ph.gri";"Pl.alb";"Pl.mon";"Pl.tes";"Pl.vey";"Po.den";"Pt.hey";"R.nit";"T.asy";"T.can";"T.cau";"T.vir"},{0;2;6;7;21;22;23;25;27;30;31;32;33;34;36;37;39;40;41;43;44;46;47;53;54;55;56;57;58;59;61;63;64;73;82;83;84}) -> 0 | AV12: =LOOKUP(AX12,{0;"AFus";"AMic";"ATha";"BTub";"CAlb";"CApr";"CBig";"CBru";"CDis";"CDor";"CIta";"CMol";"CMon";"CPar";"CPul";"CVag";"EBra";"ETer";"GRuf";"GSib";"LMig";"MAlp";"MMac";"MPar";"OCae";"OGer";"OHae";"ORuf";"OVir";"PPed";"PStr";"SCae";"SCra";"SGro";"SLin";"SNig";"SRub";"SSca";"SSti";"T(b)bip";"T(b)kr";"TBip";"TCep";"TSub";"TTen";"TTue";"TUnd"},{0;4;5;3;8;10;11;12;13;20;14;9;15;16;17;18;19;26;24;28;29;35;42;45;38;48;49;50;51;52;60;62;65;67;72;68;69;70;66;71;74;75;76;77;78;79;80;81}) -> 0 | AW12: 0 | AX12: 0
A13: Heuschrecken (Saltatoria) | AO13: =IF(AP13=0,"",INDEX(Biotope!$B$7:$B$90,AP13)) | AP13: =LOOKUP(AQ13,{0;"AE";"AF";"AG";"AH";"AL";"AR";"AS";"AT";"AW";"AX";"BE";"BF";"BG";"BH";"BK";"BL";"BM";"BO";"BR";"BS";"D";"FP";"FR";"FV";"GA";"GF";"GI";"GL";"GM";"GS";"GT";"GZ";"HG";"HZ";"LA";"LB";"LI";"LJ";"MA";"ME";"MM";"OA";"OG";"OH";"OK";"OL";"OS";"OT";"OV";"PC";"PD";"PE";"PF";"PG";"PG";"PK";"PS";"PW";"PZ";"RK";"RR";"RS";"RX";"SA";"SG";"SK";"SL";"SP";"SR";"ST";"SV";"SW";"SZ";"WG";"WI";"WK";"WL";"WLM";"WM";"WN";"WP";"WR";"WV";"WZ"},{0;67;70;68;69;74;73;72;71;76;75;35;32;39;33;36;31;40;38;34;37;66;2;1;3;24;21;26;28;22;25;23;27;30;29;52;54;53;55;18;20;19;82;78;84;83;79;77;80;81;61;62;60;56;57;64;58;59;63;65;17;14;15;16;8;4;5;11;6;9;7;13;10;12;49;50;43;48;42;41;47;51;45;46;44}) -> 0 | AR13: =IF(AT13=0,"",INDEX(Arten!$D$1:$D$84,AT13)) | AS13: =IF(AT13=0,"",INDEX(Arten!$E$1:$E$84,AT13)) | AT13: =SUM(AU13:AV13) -> 0 | AU13: =LOOKUP(AW13,{0;"A.dom";"B.con";"B.ser";"C.dor";"C.fus";"D.ver";"E.eph";"G.gla";"G.gry";"Gr.cam";"I.kra";"L.alb";"L.pun";"M.mer";"M.tha";"Me.bic";"Me.bra";"Me.roe";"Mo.fro";"My.ace";"N.syl";"O.pel";"P.fal";"Ph.apt";"Ph.gri";"Pl.alb";"Pl.mon";"Pl.tes";"Pl.vey";"Po.den";"Pt.hey";"R.nit";"T.asy";"T.can";"T.cau";"T.vir"},{0;2;6;7;21;22;23;25;27;30;31;32;33;34;36;37;39;40;41;43;44;46;47;53;54;55;56;57;58;59;61;63;64;73;82;83;84}) -> 0 | AV13: =LOOKUP(AX13,{0;"AFus";"AMic";"ATha";"BTub";"CAlb";"CApr";"CBig";"CBru";"CDis";"CDor";"CIta";"CMol";"CMon";"CPar";"CPul";"CVag";"EBra";"ETer";"GRuf";"GSib";"LMig";"MAlp";"MMac";"MPar";"OCae";"OGer";"OHae";"ORuf";"OVir";"PPed";"PStr";"SCae";"SCra";"SGro";"SLin";"SNig";"SRub";"SSca";"SSti";"T(b)bip";"T(b)kr";"TBip";"TCep";"TSub";"TTen";"TTue";"TUnd"},{0;4;5;3;8;10;11;12;13;20;14;9;15;16;17;18;19;26;24;28;29;35;42;45;38;48;49;50;51;52;60;62;65;67;72;68;69;70;66;71;74;75;76;77;78;79;80;81}) -> 0 | AW13: 0 | AX13: 0
A14: Heuschrecken (Saltatoria) | AO14: =IF(AP14=0,"",INDEX(Biotope!$B$7:$B$90,AP14)) | AP14: =LOOKUP(AQ14,{0;"AE";"AF";"AG";"AH";"AL";"AR";"AS";"AT";"AW";"AX";"BE";"BF";"BG";"BH";"BK";"BL";"BM";"BO";"BR";"BS";"D";"FP";"FR";"FV";"GA";"GF";"GI";"GL";"GM";"GS";"GT";"GZ";"HG";"HZ";"LA";"LB";"LI";"LJ";"MA";"ME";"MM";"OA";"OG";"OH";"OK";"OL";"OS";"OT";"OV";"PC";"PD";"PE";"PF";"PG";"PG";"PK";"PS";"PW";"PZ";"RK";"RR";"RS";"RX";"SA";"SG";"SK";"SL";"SP";"SR";"ST";"SV";"SW";"SZ";"WG";"WI";"WK";"WL";"WLM";"WM";"WN";"WP";"WR";"WV";"WZ"},{0;67;70;68;69;74;73;72;71;76;75;35;32;39;33;36;31;40;38;34;37;66;2;1;3;24;21;26;28;22;25;23;27;30;29;52;54;53;55;18;20;19;82;78;84;83;79;77;80;81;61;62;60;56;57;64;58;59;63;65;17;14;15;16;8;4;5;11;6;9;7;13;10;12;49;50;43;48;42;41;47;51;45;46;44}) -> 0 | AR14: =IF(AT14=0,"",INDEX(Arten!$D$1:$D$84,AT14)) | AS14: =IF(AT14=0,"",INDEX(Arten!$E$1:$E$84,AT14)) | AT14: =SUM(AU14:AV14) -> 0 | AU14: =LOOKUP(AW14,{0;"A.dom";"B.con";"B.ser";"C.dor";"C.fus";"D.ver";"E.eph";"G.gla";"G.gry";"Gr.cam";"I.kra";"L.alb";"L.pun";"M.mer";"M.tha";"Me.bic";"Me.bra";"Me.roe";"Mo.fro";"My.ace";"N.syl";"O.pel";"P.fal";"Ph.apt";"Ph.gri";"Pl.alb";"Pl.mon";"Pl.tes";"Pl.vey";"Po.den";"Pt.hey";"R.nit";"T.asy";"T.can";"T.cau";"T.vir"},{0;2;6;7;21;22;23;25;27;30;31;32;33;34;36;37;39;40;41;43;44;46;47;53;54;55;56;57;58;59;61;63;64;73;82;83;84}) -> 0 | AV14: =LOOKUP(AX14,{0;"AFus";"AMic";"ATha";"BTub";"CAlb";"CApr";"CBig";"CBru";"CDis";"CDor";"CIta";"CMol";"CMon";"CPar";"CPul";"CVag";"EBra";"ETer";"GRuf";"GSib";"LMig";"MAlp";"MMac";"MPar";"OCae";"OGer";"OHae";"ORuf";"OVir";"PPed";"PStr";"SCae";"SCra";"SGro";"SLin";"SNig";"SRub";"SSca";"SSti";"T(b)bip";"T(b)kr";"TBip";"TCep";"TSub";"TTen";"TTue";"TUnd"},{0;4;5;3;8;10;11;12;13;20;14;9;15;16;17;18;19;26;24;28;29;35;42;45;38;48;49;50;51;52;60;62;65;67;72;68;69;70;66;71;74;75;76;77;78;79;80;81}) -> 0 | AW14: 0 | AX14: 0
A15: Heuschrecken (Saltatoria) | AO15: =IF(AP15=0,"",INDEX(Biotope!$B$7:$B$90,AP15)) | AP15: =LOOKUP(AQ15,{0;"AE";"AF";"AG";"AH";"AL";"AR";"AS";"AT";"AW";"AX";"BE";"BF";"BG";"BH";"BK";"BL";"BM";"BO";"BR";"BS";"D";"FP";"FR";"FV";"GA";"GF";"GI";"GL";"GM";"GS";"GT";"GZ";"HG";"HZ";"LA";"LB";"LI";"LJ";"MA";"ME";"MM";"OA";"OG";"OH";"OK";"OL";"OS";"OT";"OV";"PC";"PD";"PE";"PF";"PG";"PG";"PK";"PS";"PW";"PZ";"RK";"RR";"RS";"RX";"SA";"SG";"SK";"SL";"SP";"SR";"ST";"SV";"SW";"SZ";"WG";"WI";"WK";"WL";"WLM";"WM";"WN";"WP";"WR";"WV";"WZ"},{0;67;70;68;69;74;73;72;71;76;75;35;32;39;33;36;31;40;38;34;37;66;2;1;3;24;21;26;28;22;25;23;27;30;29;52;54;53;55;18;20;19;82;78;84;83;79;77;80;81;61;62;60;56;57;64;58;59;63;65;17;14;15;16;8;4;5;11;6;9;7;13;10;12;49;50;43;48;42;41;47;51;45;46;44}) -> 0 | AR15: =IF(AT15=0,"",INDEX(Arten!$D$1:$D$84,AT15)) | AS15: =IF(AT15=0,"",INDEX(Arten!$E$1:$E$84,AT15)) | AT15: =SUM(AU15:AV15) -> 0 | AU15: =LOOKUP(AW15,{0;"A.dom";"B.con";"B.ser";"C.dor";"C.fus";"D.ver";"E.eph";"G.gla";"G.gry";"Gr.cam";"I.kra";"L.alb";"L.pun";"M.mer";"M.tha";"Me.bic";"Me.bra";"Me.roe";"Mo.fro";"My.ace";"N.syl";"O.pel";"P.fal";"Ph.apt";"Ph.gri";"Pl.alb";"Pl.mon";"Pl.tes";"Pl.vey";"Po.den";"Pt.hey";"R.nit";"T.asy";"T.can";"T.cau";"T.vir"},{0;2;6;7;21;22;23;25;27;30;31;32;33;34;36;37;39;40;41;43;44;46;47;53;54;55;56;57;58;59;61;63;64;73;82;83;84}) -> 0 | AV15: =LOOKUP(AX15,{0;"AFus";"AMic";"ATha";"BTub";"CAlb";"CApr";"CBig";"CBru";"CDis";"CDor";"CIta";"CMol";"CMon";"CPar";"CPul";"CVag";"EBra";"ETer";"GRuf";"GSib";"LMig";"MAlp";"MMac";"MPar";"OCae";"OGer";"OHae";"ORuf";"OVir";"PPed";"PStr";"SCae";"SCra";"SGro";"SLin";"SNig";"SRub";"SSca";"SSti";"T(b)bip";"T(b)kr";"TBip";"TCep";"TSub";"TTen";"TTue";"TUnd"},{0;4;5;3;8;10;11;12;13;20;14;9;15;16;17;18;19;26;24;28;29;35;42;45;38;48;49;50;51;52;60;62;65;67;72;68;69;70;66;71;74;75;76;77;78;79;80;81}) -> 0 | AW15: 0 | AX15: 0
... A2000: Heuschrecken (Saltatoria) | AO2000: =IF(AP2000=0,"",INDEX(Biotope!$B$7:$B$90,AP2000)) | AP2000: =LOOKUP(AQ2000,{0;"AE";"AF";"AG";"AH";"AL";"AR";"AS";"AT";"AW";"AX";"BE";"BF";"BG";"BH";"BK";"BL";"BM";"BO";"BR";"BS";"D";"FP";"FR";"FV";"GA";"GF";"GI";"GL";"GM";"GS";"GT";"GZ";"HG";"HZ";"LA";"LB";"LI";"LJ";"MA";"ME";"MM";"OA";"OG";"OH";"OK";"OL";"OS";"OT";"OV";"PC";"PD";"PE";"PF";"PG";"PG";"PK";"PS";"PW";"PZ";"RK";"RR";"RS";"RX";"SA";"SG";"SK";"SL";"SP";"SR";"ST";"SV";"SW";"SZ";"WG";"WI";"WK";"WL";"WLM";"WM";"WN";"WP";"WR";"WV";"WZ"},{0;67;70;68;69;74;73;72;71;76;75;35;32;39;33;36;31;40;38;34;37;66;2;1;3;24;21;26;28;22;25;23;27;30;29;52;54;53;55;18;20;19;82;78;84;83;79;77;80;81;61;62;60;56;57;64;58;59;63;65;17;14;15;16;8;4;5;11;6;9;7;13;10;12;49;50;43;48;42;41;47;51;45;46;44}) -> 0 | AR2000: =IF(AT2000=0,"",INDEX(Arten!$D$1:$D$84,AT2000)) | AS2000: =IF(AT2000=0,"",INDEX(Arten!$E$1:$E$84,AT2000)) | AT2000: =SUM(AU2000:AV2000) -> 0 | AU2000: =LOOKUP(AW2000,{0;"A.dom";"B.con";"B.ser";"C.dor";"C.fus";"D.ver";"E.eph";"G.gla";"G.gry";"Gr.cam";"I.kra";"L.alb";"L.pun";"M.mer";"M.tha";"Me.bic";"Me.bra";"Me.roe";"Mo.fro";"My.ace";"N.syl";"O.pel";"P.fal";"Ph.apt";"Ph.gri";"Pl.alb";"Pl.mon";"Pl.tes";"Pl.vey";"Po.den";"Pt.hey";"R.nit";"T.asy";"T.can";"T.cau";"T.vir"},{0;2;6;7;21;22;23;25;27;30;31;32;33;34;36;37;39;40;41;43;44;46;47;53;54;55;56;57;58;59;61;63;64;73;82;83;84}) -> 0 | AV2000: =LOOKUP(AX2000,{0;"AFus";"AMic";"ATha";"BTub";"CAlb";"CApr";"CBig";"CBru";"CDis";"CDor";"CIta";"CMol";"CMon";"CPar";"CPul";"CVag";"EBra";"ETer";"GRuf";"GSib";"LMig";"MAlp";"MMac";"MPar";"OCae";"OGer";"OHae";"ORuf";"OVir";"PPed";"PStr";"SCae";"SCra";"SGro";"SLin";"SNig";"SRub";"SSca";"SSti";"T(b)bip";"T(b)kr";"TBip";"TCep";"TSub";"TTen";"TTue";"TUnd"},{0;4;5;3;8;10;11;12;13;20;14;9;15;16;17;18;19;26;24;28;29;35;42;45;38;48;49;50;51;52;60;62;65;67;72;68;69;70;66;71;74;75;76;77;78;79;80;81}) -> 0 | AW2000: 0 | AX2000: 0

Sheet Arten
A1: ------- | D1: ------- | E1: -------
A2: Acheta domesticus | C2: A.dom | D2: Acheta | E2: domesticus | F2: A.dom | G2: A.tha | H2: Acheta domesticus | I2: Aiolopus thalassinus | J2: Acheta | K2: domesticus | L2: Aiolopus | M2: thalassinus
A3: Aiolopus thalassinus | C3: A.tha | D3: Aiolopus | E3: thalassinus | F3: B.con | G3: A.fus | H3: Barbitistes constrictus | I3: Arcyptera fusca | J3: Barbitistes | K3: constrictus | L3: Arcyptera | M3: fusca
A4: Arcyptera fusca | C4: A.fus | D4: Arcyptera | E4: fusca | F4: B.ser | G4: A.mic | H4: Barbitistes serricauda | I4: Arcyptera microptera | J4: Barbitistes | K4: serricauda | L4: Arcyptera | M4: microptera
A5: Arcyptera microptera | C5: A.mic | D5: Arcyptera | E5: microptera | F5: C.dor | G5: B.tub | H5: Conocephalus dorsalis | I5: Bryodemella tuberculata | J5: Conocephalus | K5: fuscus | L5: Bryodemella | M5: tuberculata
A6: Barbitistes constrictus | C6: B.con | D6: Barbitistes | E6: constrictus | F6: C.fus | G6: C.ita | H6: Conocephalus fuscus | I6: Calliptamus italicus | J6: Conocephalus | K6: dorsalis | L6: Calliptamus | M6: italicus
A7: Barbitistes serricauda | C7: B.ser | D7: Barbitistes | E7: serricauda | F7: D.ver | G7: C.alb | H7: Decticus verrucivorus | I7: Chorthippus albomarginatus | J7: Decticus | K7: verrucivorus | L7: Chorthippus | M7: albomarginatus
A8: Bryodemella tuberculata | C8: B.tub | D8: Bryodemella | E8: tuberculata | F8: E.eph | G8: C.apr | H8: Ephippiger ephippiger | I8: Chorthippus apricarius | J8: Ephippiger | K8: ephippiger | L8: Chorthippus | M8: apricarius
A9: Calliptamus italicus | C9: C.ita | D9: Calliptamus | E9: italicus | F9: G.gla | G9: C.big | H9: Gampsocleis glabra | I9: Chorthippus biguttulus | J9: Gampsocleis | K9: glabra | L9: Chorthippus | M9: biguttulus
A10: Chorthippus albomarginatus | C10: C.alb | D10: Chorthippus | E10: albomarginatus | F10: G.gry | G10: C.bru | H10: Gryllotalpa gryllotalpa | I10: Chorthippus brunneus | J10: Gryllotalpa | K10: gryllotalpa | L10: Chorthippus | M10: brunneus
A11: Chorthippus apricarius | C11: C.apr | D11: Chorthippus | E11: apricarius | F11: G.cam | G11: C.dor | H11: Gryllus campestris | I11: Chorthippus dorsatus | J11: Gryllus | K11: campestris | L11: Chorthippus | M11: dorsatus
A12: Chorthippus biguttulus | C12: C.big | D12: Chorthippus | E12: biguttulus | F12: I.kra | G12: C.mol | H12: Isophya kraussii | I12: Chorthippus mollis | J12: Isophya | K12: kraussii | L12: Chorthippus | M12: mollis
A13: Chorthippus brunneus | C13: C.bru | D13: Chorthippus | E13: brunneus | F13: L.alb | G13: C.mon | H13: Leptophyes albovittata | I13: Chorthippus montanus | J13: Leptophyes | K13: albovittata | L13: Chorthippus | M13: montanus
... A37: Meconema thalassinum | C37: M.tha | D37: Meconema | E37: thalassinum | F37: T.vir | G37: S.nig | H37: Tettigonia viridissima | I37: Stenobothrus nigromaculatus | J37: Tettigonia | K37: viridissima | L37: Stenobothrus | M37: nigromaculatus
A38: Mecostethus parapleurus | C38: M.par | D38: Mecostethus | E38: parapleurus | G38: S.rub | I38: Stenobothrus rubicundulus | L38: Stenobothrus | M38: rubicundulus
A39: Metrioptera bicolor | C39: M.bic | D39: Metrioptera | E39: bicolor | G39: S.sti | I39: Stenobothrus stigmaticus | L39: Stenobothrus | M39: stigmaticus
A40: Metrioptera brachyptera | C40: M.bra | D40: Metrioptera | E40: brachyptera | G40: S.gro | I40: Stethophyma grossum | L40: Stethophyma | M40: grossum
A41: Metrioptera roeselii | C41: M.roe | D41: Metrioptera | E41: roeselii | G41: T.bbip | I41: Tetrix (b.) bipunctata | L41: Tetrix | M41: (bipunctata) bipunctata
A42: Miramella alpina | C42: M.alp | D42: Miramella | E42: alpina | G42: T.bkr | I42: Tetrix (b.) kraussi | L42: Tetrix | M42: (bipunctata) kraussi
A43: Modicogryllus frontalis | C43: M.fro | D43: Modicogryllus | E43: frontalis | G43: T.bip | I43: Tetrix bipunctata s.l. | L43: Tetrix | M43: bipunctata
A44: Myrmecophilus acervorum | C44: M.ace | D44: Myrmecophilus | E44: acervorum | G44: T.cep | I44: Tetrix ceperoi | L44: Tetrix | M44: ceperoi
A45: Myrmeleotettix maculatus | C45: M.mac | D45: Myrmeleotettix | E45: maculatus | G45: T.sub | I45: Tetrix subulata | L45: Tetrix | M45: subulata
A46: Nemobius sylvestris | C46: N.syl | D46: Nemobius | E46: sylvestris | G46: T.ten | I46: Tetrix tenuicornis | L46: Tetrix | M46: tenuicornis
A47: Oecanthus pellucens | C47: O.pel | D47: Oecanthus | E47: pellucens | G47: T.tue | I47: Tetrix tuerki | L47: Tetrix | M47: tuerki
A48: Oedipoda caerulescens | C48: O.cae | D48: Oedipoda | E48: caerulescens | G48: T.und | I48: Tetrix undulata | L48: Tetrix | M48: undulata
A49: Oedipoda germanica | C49: O.ger | D49: Oedipoda | E49: germanica
A50: Omocestus haemorrhoidalis | C50: O.hae | D50: Omocestus | E50: haemorrhoidalis
A51: Omocestus rufipes | C51: O.ruf | D51: Omocestus | E51: rufipes
A52: Omocestus viridulus | C52: O.vir | D52: Omocestus | E52: viridulus
A53: Phaneroptera falcata | C53: P.fal | D53: Phaneroptera | E53: falcata
A54: Pholidoptera aptera | C54: P.apt | D54: Pholidoptera | E54: aptera
A55: Pholidoptera griseoaptera | C55: P.gri | D55: Pholidoptera | E55: griseoaptera
A56: Platycleis albopunctata | C56: P.alb | D56: Platycleis | E56: albopunctata
A57: Platycleis montana | C57: P.mon | D57: Platycleis | E57: montana
A58: Platycleis tessellata | C58: P.tes | D58: Platycleis | E58: tessellata
A59: Platycleis veyseli | C59: P.vey | D59: Platycleis | E59: veyseli
A60: Podisma pedestris | C60: P.ped | D60: Podisma | E60: pedestris
... A84: Tettigonia viridissima | C84: T.vir | D84: Tettigonia | E84: viridissima

Sheet Biotope
A1: F | B1: Fließgewässer | C1: AE | D1: Erosionstäler, Trockentäler und Hohlwege
A2: FQ | B2: Quellen und Quellfluren | C2: AF | D2: Findlinge
A3: FB | B3: Bäche und kleine Flüsse/Fließe | C3: AG | D3: Oser und anthropogene Sonderbildungen
A4: FF | B4: Flüsse | C4: AH | D4: Steinhaufen, Steinwälle, Steinriegel
A5: FG | B5: Gräben | C5: AL | D5: Baumschulen, Gartenbau
A6: FK | B6: Kanäle | C6: AR | D6: ehemalige Rieselfelder
A7: FR | B7: Röhrichtgesellschaften an Fließgewässern | C7: AS | D7: Spülflächen (Baggergut-Deponieflächen)
A8: FP | B8: Kurzlebige Pioniervegetation wechselnasser Standorte an Fließgewässern | C8: AT | D8: trockene Gruben
A9: FV | B9: Uferbefestigung von Fließgewässern | C9: AW | D9: Sand-, Mergel- oder Lehmwand
A10: SG | B10: Seen | C10: AX | D10: Dämme mit Wegen
A11: SK | B11: perennierende Kleingewässer (Sölle, Kolke, Pfuhle etc., <1ha) | C11: BE | D11: Solitärbäume
A12: SP | B12: temporäre Kleingewässer | C12: BF | D12: Feldgehölze
... A83: OS | B83: Kerngebiet, Wohngebiete, Mischgebiete | C83: WZ | D83: Zwergstrauch-Kiefernwälder
A84: OG | B84: Gewerbe-, Industrie-, Handels-, Dienstleistungs- und Gemeinbedarfsflächen
A85: OL | B85: Landwirtschaft und Tierhaltung
A86: OT | B86: Ver- und Entsorgungsanlagen
A87: OV | B87: Verkehrsflächen
A88: OA | B88: anthropogene Sonderflächen
A89: OK | B89: besondere Bauwerke
A90: OH | B90: Gebäudehabitate
